BEGIN:VCALENDAR
VERSION:2.0
PRODID:-//Plone.org//NONSGML plone.app.event//EN
X-WR-TIMEZONE:Brazil/East
BEGIN:VEVENT
SUMMARY:REUNIÃO GERAL DO MANDATO.
DTSTART;TZID=Brazil/East;VALUE=DATE-TIME:20260227T090000
DTEND;TZID=Brazil/East;VALUE=DATE-TIME:20260227T120000
DTSTAMP;VALUE=DATE-TIME:20260422T110926Z
UID:0cf69a3c0ae443d39758247d2a11122e@www.goiania.go.leg.br
CONTACT:VEREADOR PROFESSOR EDWARD
CREATED;VALUE=DATE-TIME:20260223T123936Z
LAST-MODIFIED;VALUE=DATE-TIME:20260223T123955Z
LOCATION:AUDITÓRIO CARLOS EURICO
URL:https://www.goiania.go.leg.br/sala-de-imprensa/eventos/reuniao-geral-d
 o-mandato
END:VEVENT
BEGIN:VTIMEZONE
TZID:Brazil/East
X-LIC-LOCATION:Brazil/East
BEGIN:STANDARD
DTSTART;VALUE=DATE-TIME:20260221T230000
TZNAME:BRT
TZOFFSETFROM:-0200
TZOFFSETTO:-0300
END:STANDARD
END:VTIMEZONE
END:VCALENDAR
