BEGIN:VCALENDAR
VERSION:2.0
PRODID:-//Plone.org//NONSGML plone.app.event//EN
X-WR-TIMEZONE:Brazil/East
BEGIN:VEVENT
SUMMARY:REUNIÃO EXTRARODINÁRIA DA COMISSÃO DE CONSTITUIÇÃO JUSTIÇA E
  REDAÇÃO.
DTSTART;TZID=Brazil/East;VALUE=DATE-TIME:20231025T143000
DTEND;TZID=Brazil/East;VALUE=DATE-TIME:20231025T180000
DTSTAMP;VALUE=DATE-TIME:20260419T190338Z
UID:c231619665864795bd60f9e3136d9c61@www.goiania.go.leg.br
CONTACT:VEREADOR HENRIQUE ALVES
CREATED;VALUE=DATE-TIME:20231020T200210Z
LAST-MODIFIED;VALUE=DATE-TIME:20231020T200219Z
LOCATION:SALA DE REUNIÃO DAS COMISSÕES
URL:https://www.goiania.go.leg.br/sala-de-imprensa/eventos/reuniao-extraro
 dinaria-da-comissao-de-constituicao-justica-e-redacao
END:VEVENT
BEGIN:VTIMEZONE
TZID:Brazil/East
X-LIC-LOCATION:Brazil/East
BEGIN:DAYLIGHT
DTSTART;VALUE=DATE-TIME:20231015T010000
TZNAME:BRST
TZOFFSETFROM:-0300
TZOFFSETTO:-0200
END:DAYLIGHT
END:VTIMEZONE
END:VCALENDAR
