BEGIN:VCALENDAR
VERSION:2.0
PRODID:-//Plone.org//NONSGML plone.app.event//EN
X-WR-TIMEZONE:Brazil/East
BEGIN:VEVENT
SUMMARY:REUNIÃO EXTRAORDINÁRIA PARA APRECIAÇÃO E DISCUSSÃO DOS PROJET
 OS DE LEI.
DTSTART;TZID=Brazil/East;VALUE=DATE-TIME:20211214T080000
DTEND;TZID=Brazil/East;VALUE=DATE-TIME:20211214T090000
DTSTAMP;VALUE=DATE-TIME:20260421T065924Z
UID:c699d631d97242f6b0d874c22f9fbf6c@www.goiania.go.leg.br
CONTACT:VEREADOR HENRIQUE ALVES
CREATED;VALUE=DATE-TIME:20211213T210536Z
LAST-MODIFIED;VALUE=DATE-TIME:20211213T210551Z
LOCATION:SALA DAS COMISSÕES
URL:https://www.goiania.go.leg.br/sala-de-imprensa/eventos/reuniao-extraor
 dinaria-para-apreciacao-e-discussao-dos-projetos-de-lei
END:VEVENT
BEGIN:VTIMEZONE
TZID:Brazil/East
X-LIC-LOCATION:Brazil/East
BEGIN:DAYLIGHT
DTSTART;VALUE=DATE-TIME:20211017T010000
TZNAME:BRST
TZOFFSETFROM:-0300
TZOFFSETTO:-0200
END:DAYLIGHT
END:VTIMEZONE
END:VCALENDAR
