BEGIN:VCALENDAR
VERSION:2.0
PRODID:-//Plone.org//NONSGML plone.app.event//EN
X-WR-TIMEZONE:Brazil/East
BEGIN:VEVENT
SUMMARY:REUNIÃO EXTRAORDINÁRIA DO MOVIMENTO PELA REFORMA URBANA.
DTSTART;TZID=Brazil/East;VALUE=DATE-TIME:20190417T170000
DTEND;TZID=Brazil/East;VALUE=DATE-TIME:20190417T200000
DTSTAMP;VALUE=DATE-TIME:20260424T135816Z
UID:94b7ac20205e4fe7968b223c74a1812b@www.goiania.go.leg.br
CONTACT:VEREADOR ANSELMO PEREIRA
CREATED;VALUE=DATE-TIME:20190416T125634Z
LAST-MODIFIED;VALUE=DATE-TIME:20190416T125644Z
LOCATION:AUDITÓRIO CARLOS EURICO
URL:https://www.goiania.go.leg.br/sala-de-imprensa/eventos/reuniao-extraor
 dinaria-do-movimento-pela-reforma-urbana
END:VEVENT
BEGIN:VTIMEZONE
TZID:Brazil/East
X-LIC-LOCATION:Brazil/East
BEGIN:STANDARD
DTSTART;VALUE=DATE-TIME:20190216T230000
TZNAME:BRT
TZOFFSETFROM:-0200
TZOFFSETTO:-0300
END:STANDARD
END:VTIMEZONE
END:VCALENDAR
