BEGIN:VCALENDAR
VERSION:2.0
PRODID:-//Plone.org//NONSGML plone.app.event//EN
X-WR-TIMEZONE:Brazil/East
BEGIN:VEVENT
SUMMARY:REUNIÃO EXTRAORDINÁRIA DA COMISSÃO DE CONSTITUIÇÃO\, JUSTIÇA
  E REDAÇÃO.
DTSTART;TZID=Brazil/East;VALUE=DATE-TIME:20231204T090000
DTEND;TZID=Brazil/East;VALUE=DATE-TIME:20231204T120000
DTSTAMP;VALUE=DATE-TIME:20260422T155437Z
UID:a7e16fff30724e99ba17d6f6e2c1263a@www.goiania.go.leg.br
CONTACT:VEREADOR HENRIQUE ALVES
CREATED;VALUE=DATE-TIME:20231201T215338Z
LAST-MODIFIED;VALUE=DATE-TIME:20231201T215359Z
LOCATION:SALA DE REUNIÃO DAS COMISSÕES
URL:https://www.goiania.go.leg.br/sala-de-imprensa/eventos/reuniao-extraor
 dinaria-da-comissao-de-constituicao-justica-e-redacao-4
END:VEVENT
BEGIN:VTIMEZONE
TZID:Brazil/East
X-LIC-LOCATION:Brazil/East
BEGIN:DAYLIGHT
DTSTART;VALUE=DATE-TIME:20231015T010000
TZNAME:BRST
TZOFFSETFROM:-0300
TZOFFSETTO:-0200
END:DAYLIGHT
END:VTIMEZONE
END:VCALENDAR
