BEGIN:VCALENDAR
VERSION:2.0
PRODID:-//Plone.org//NONSGML plone.app.event//EN
X-WR-TIMEZONE:Brazil/East
BEGIN:VEVENT
SUMMARY:REUNIÃO EXTRAORDINÁRIA COM O VEREADOR ALYSSON LIMA.
DTSTART;TZID=Brazil/East;VALUE=DATE-TIME:20170328T140000
DTEND;TZID=Brazil/East;VALUE=DATE-TIME:20170328T180000
DTSTAMP;VALUE=DATE-TIME:20260425T171415Z
UID:b520f06f4fe94ec1baeb20d20196abdf@www.goiania.go.leg.br
CONTACT:VEREADOR ALYSSON LIMA
CREATED;VALUE=DATE-TIME:20171208T111312Z
LAST-MODIFIED;VALUE=DATE-TIME:20171208T112930Z
LOCATION:SALA DE REUNIÃO DAS COMISSÕES
URL:https://www.goiania.go.leg.br/sala-de-imprensa/eventos/reuniao-extraor
 dinaria-com-o-vereador-alysson-lima
END:VEVENT
BEGIN:VTIMEZONE
TZID:Brazil/East
X-LIC-LOCATION:Brazil/East
BEGIN:STANDARD
DTSTART;VALUE=DATE-TIME:20170218T230000
TZNAME:BRT
TZOFFSETFROM:-0200
TZOFFSETTO:-0300
END:STANDARD
END:VTIMEZONE
END:VCALENDAR
