BEGIN:VCALENDAR
VERSION:2.0
PRODID:-//Plone.org//NONSGML plone.app.event//EN
X-WR-TIMEZONE:Brazil/East
BEGIN:VEVENT
SUMMARY:REUNIÃO EXTRAORDINÁRIA (APRESENTAÇÃO\, VOTAÇÃO DO L.D.O.
DTSTART;TZID=Brazil/East;VALUE=DATE-TIME:20211014T080000
DTEND;TZID=Brazil/East;VALUE=DATE-TIME:20211014T120000
DTSTAMP;VALUE=DATE-TIME:20260425T150847Z
UID:769cf178db774d45a5b7698eb4b3a25a@www.goiania.go.leg.br
CONTACT:VEREADOR CABO SENNA
CREATED;VALUE=DATE-TIME:20211013T193829Z
LAST-MODIFIED;VALUE=DATE-TIME:20211013T193847Z
LOCATION:Sala das Comissões
URL:https://www.goiania.go.leg.br/sala-de-imprensa/eventos/reuniao-extraor
 dinaria-apresentacao-votacao-do-l-d-o
END:VEVENT
BEGIN:VTIMEZONE
TZID:Brazil/East
X-LIC-LOCATION:Brazil/East
BEGIN:STANDARD
DTSTART;VALUE=DATE-TIME:20210220T230000
TZNAME:BRT
TZOFFSETFROM:-0200
TZOFFSETTO:-0300
END:STANDARD
END:VTIMEZONE
END:VCALENDAR
