BEGIN:VCALENDAR
VERSION:2.0
PRODID:-//Plone.org//NONSGML plone.app.event//EN
X-WR-TIMEZONE:Brazil/East
BEGIN:VEVENT
SUMMARY:REUNIÃO EXTRAORDINÁRIA - APRESENTAÇÃO E VOTAÇÃO DA L.D.O.
DTSTART;TZID=Brazil/East;VALUE=DATE-TIME:20211014T080000
DTEND;TZID=Brazil/East;VALUE=DATE-TIME:20211014T090000
DTSTAMP;VALUE=DATE-TIME:20260425T150835Z
UID:c9b2cc0970db4af5b2b4bb2fbda8dafd@www.goiania.go.leg.br
CONTACT:VEREADOR CABO SENNA
CREATED;VALUE=DATE-TIME:20211013T150409Z
LAST-MODIFIED;VALUE=DATE-TIME:20211013T150556Z
LOCATION:SALA DE REUNIÃO DA PRESIDÊNCIA
URL:https://www.goiania.go.leg.br/sala-de-imprensa/eventos/reuniao-extraor
 dinaria-apresentacao-e-votacao-da-l-d-o
END:VEVENT
BEGIN:VTIMEZONE
TZID:Brazil/East
X-LIC-LOCATION:Brazil/East
BEGIN:STANDARD
DTSTART;VALUE=DATE-TIME:20210220T230000
TZNAME:BRT
TZOFFSETFROM:-0200
TZOFFSETTO:-0300
END:STANDARD
END:VTIMEZONE
END:VCALENDAR
