BEGIN:VCALENDAR
VERSION:2.0
PRODID:-//Plone.org//NONSGML plone.app.event//EN
X-WR-TIMEZONE:Brazil/East
BEGIN:VEVENT
SUMMARY:REUNIÃO ESTADUAL PARA TRATAR ASSUNTOS DE INTERESSE DA NOSSA CAPIT
 AL.
DTSTART;TZID=Brazil/East;VALUE=DATE-TIME:20180315T140000
DTEND;TZID=Brazil/East;VALUE=DATE-TIME:20180315T200000
DTSTAMP;VALUE=DATE-TIME:20260425T171710Z
UID:9740d586403d49c2a94fb374c965ab9f@www.goiania.go.leg.br
CONTACT:VEREADOR EMILSON PEREIRA
CREATED;VALUE=DATE-TIME:20180314T133152Z
LAST-MODIFIED;VALUE=DATE-TIME:20180314T133221Z
LOCATION:AUDITÓRIO JAIME CÂMARA
URL:https://www.goiania.go.leg.br/sala-de-imprensa/eventos/reuniao-estadua
 l-para-tratar-assuntos-de-interesse-da-nossa-capital
END:VEVENT
BEGIN:VTIMEZONE
TZID:Brazil/East
X-LIC-LOCATION:Brazil/East
BEGIN:STANDARD
DTSTART;VALUE=DATE-TIME:20180217T230000
TZNAME:BRT
TZOFFSETFROM:-0200
TZOFFSETTO:-0300
END:STANDARD
END:VTIMEZONE
END:VCALENDAR
