BEGIN:VCALENDAR
VERSION:2.0
PRODID:-//Plone.org//NONSGML plone.app.event//EN
X-WR-TIMEZONE:Brazil/East
BEGIN:VEVENT
SUMMARY:REUNIÃO ENTRE O VEREADOR PAULO MAGALHÃES E DIVERSOS REPRESENTANT
 ES DA CATEGORIA DOS AMBULANTES DE GOIÂNIA.
DTSTART;TZID=Brazil/East;VALUE=DATE-TIME:20231211T183000
DTEND;TZID=Brazil/East;VALUE=DATE-TIME:20231211T203000
DTSTAMP;VALUE=DATE-TIME:20260421T014822Z
UID:4862afda2ea54fb8ab25cdddf8957346@www.goiania.go.leg.br
CONTACT:VEREADOR PAULO MAGALHÃES
CREATED;VALUE=DATE-TIME:20231128T125255Z
LAST-MODIFIED;VALUE=DATE-TIME:20231207T145414Z
LOCATION:AUDITÓRIO CARLOS EURICO
URL:https://www.goiania.go.leg.br/sala-de-imprensa/eventos/reuniao-entre-o
 -vereador-paulo-magalhaes-e-diversos-representantes-da-categoria-dos-ambul
 antes-de-goiania-1
END:VEVENT
BEGIN:VTIMEZONE
TZID:Brazil/East
X-LIC-LOCATION:Brazil/East
BEGIN:DAYLIGHT
DTSTART;VALUE=DATE-TIME:20231015T010000
TZNAME:BRST
TZOFFSETFROM:-0300
TZOFFSETTO:-0200
END:DAYLIGHT
END:VTIMEZONE
END:VCALENDAR
