BEGIN:VCALENDAR
VERSION:2.0
PRODID:-//Plone.org//NONSGML plone.app.event//EN
X-WR-TIMEZONE:Brazil/East
BEGIN:VEVENT
SUMMARY:REUNIÃO ENTRE A DIRETORIA ADMINISTRATIVA E SUAS DIVISÕES.
DTSTART;TZID=Brazil/East;VALUE=DATE-TIME:20220120T090000
DTEND;TZID=Brazil/East;VALUE=DATE-TIME:20220120T120000
DTSTAMP;VALUE=DATE-TIME:20260421T055507Z
UID:cad8024ad6694621a68806efa465e8c7@www.goiania.go.leg.br
CONTACT:ROBERTO ALVES VILA VERDE
CREATED;VALUE=DATE-TIME:20220118T120745Z
LAST-MODIFIED;VALUE=DATE-TIME:20220118T120751Z
LOCATION:SALA DE REUNIÃO DA PRESIDÊNCIA
URL:https://www.goiania.go.leg.br/sala-de-imprensa/eventos/reuniao-entre-a
 -diretoria-administrativa-e-suas-divisoes
END:VEVENT
BEGIN:VTIMEZONE
TZID:Brazil/East
X-LIC-LOCATION:Brazil/East
BEGIN:DAYLIGHT
DTSTART;VALUE=DATE-TIME:20211017T010000
TZNAME:BRST
TZOFFSETFROM:-0300
TZOFFSETTO:-0200
END:DAYLIGHT
END:VTIMEZONE
END:VCALENDAR
