BEGIN:VCALENDAR
VERSION:2.0
PRODID:-//Plone.org//NONSGML plone.app.event//EN
X-WR-TIMEZONE:Brazil/East
BEGIN:VEVENT
SUMMARY:REUNIÃO EM PREPARAÇÃO AO MÊS DO ORGULHO LGBTQIA+.
DTSTART;TZID=Brazil/East;VALUE=DATE-TIME:20240522T150000
DTEND;TZID=Brazil/East;VALUE=DATE-TIME:20240522T180000
DTSTAMP;VALUE=DATE-TIME:20260420T093359Z
UID:90d14eec88d14062af642e66acaf0fcf@www.goiania.go.leg.br
CONTACT:VEREADOR FABRICIO ROSA
CREATED;VALUE=DATE-TIME:20240513T135025Z
LAST-MODIFIED;VALUE=DATE-TIME:20240513T135038Z
LOCATION:SALA DE REUNIÃO DA PRESIDÊNCIA
URL:https://www.goiania.go.leg.br/sala-de-imprensa/eventos/reuniao-em-prep
 aracao-ao-mes-do-orgulho-lgbtqia
END:VEVENT
BEGIN:VTIMEZONE
TZID:Brazil/East
X-LIC-LOCATION:Brazil/East
BEGIN:STANDARD
DTSTART;VALUE=DATE-TIME:20240217T230000
TZNAME:BRT
TZOFFSETFROM:-0200
TZOFFSETTO:-0300
END:STANDARD
END:VTIMEZONE
END:VCALENDAR
