BEGIN:VCALENDAR
VERSION:2.0
PRODID:-//Plone.org//NONSGML plone.app.event//EN
X-WR-TIMEZONE:Brazil/East
BEGIN:VEVENT
SUMMARY:REUNIÃO E PALESTRA SOBRE A SEGURANÇA PÚBLICA E PRIVADA.
DTSTART;TZID=Brazil/East;VALUE=DATE-TIME:20231106T080000
DTEND;TZID=Brazil/East;VALUE=DATE-TIME:20231106T120000
DTSTAMP;VALUE=DATE-TIME:20260424T060920Z
UID:568eb6645801495ba745119ab4c5ea1c@www.goiania.go.leg.br
CONTACT:VEREADOR EDGAR DUARTE
CREATED;VALUE=DATE-TIME:20231025T214758Z
LAST-MODIFIED;VALUE=DATE-TIME:20231025T214915Z
LOCATION:AUDITÓRIO CARLOS EURICO
URL:https://www.goiania.go.leg.br/sala-de-imprensa/eventos/reuniao-e-pales
 tra-sobre-a-seguranca-publica-e-privada
END:VEVENT
BEGIN:VTIMEZONE
TZID:Brazil/East
X-LIC-LOCATION:Brazil/East
BEGIN:DAYLIGHT
DTSTART;VALUE=DATE-TIME:20231015T010000
TZNAME:BRST
TZOFFSETFROM:-0300
TZOFFSETTO:-0200
END:DAYLIGHT
END:VTIMEZONE
END:VCALENDAR
