BEGIN:VCALENDAR
VERSION:2.0
PRODID:-//Plone.org//NONSGML plone.app.event//EN
X-WR-TIMEZONE:Brazil/East
BEGIN:VEVENT
SUMMARY:REUNIÃO DOS INTEGRANTES DO PARTIDO MDB DO PROJETO POLITIZAR.
DTSTART;TZID=Brazil/East;VALUE=DATE-TIME:20191130T093000
DTEND;TZID=Brazil/East;VALUE=DATE-TIME:20191130T120000
DTSTAMP;VALUE=DATE-TIME:20260421T141220Z
UID:14198c051e114731b57a71fefeecd42f@www.goiania.go.leg.br
CONTACT:VEREADOR LUCAS KITÃO
CREATED;VALUE=DATE-TIME:20191129T224342Z
LAST-MODIFIED;VALUE=DATE-TIME:20191129T224351Z
LOCATION:AUDITÓRIO CARLOS EURICO
URL:https://www.goiania.go.leg.br/sala-de-imprensa/eventos/reuniao-dos-int
 egrantes-do-partido-mdb-do-projeto-politizar
END:VEVENT
BEGIN:VTIMEZONE
TZID:Brazil/East
X-LIC-LOCATION:Brazil/East
BEGIN:DAYLIGHT
DTSTART;VALUE=DATE-TIME:20191020T010000
TZNAME:BRST
TZOFFSETFROM:-0300
TZOFFSETTO:-0200
END:DAYLIGHT
END:VTIMEZONE
END:VCALENDAR
