BEGIN:VCALENDAR
VERSION:2.0
PRODID:-//Plone.org//NONSGML plone.app.event//EN
X-WR-TIMEZONE:Brazil/East
BEGIN:VEVENT
SUMMARY:REUNIÃO DOS AMBULANTES DA 44.
DTSTART;TZID=Brazil/East;VALUE=DATE-TIME:20190619T150000
DTEND;TZID=Brazil/East;VALUE=DATE-TIME:20190619T173000
DTSTAMP;VALUE=DATE-TIME:20260424T094719Z
UID:3c14b3a3a1fe4194aaf9fab6cc05cbc6@www.goiania.go.leg.br
CONTACT:VEREADOR PAULO MAGALHÃES
CREATED;VALUE=DATE-TIME:20190613T215227Z
LAST-MODIFIED;VALUE=DATE-TIME:20190613T215250Z
LOCATION:AUDITÓRIO JAIME CÂMARA
URL:https://www.goiania.go.leg.br/sala-de-imprensa/eventos/reuniao-dos-amb
 ulantes-da-44
END:VEVENT
BEGIN:VTIMEZONE
TZID:Brazil/East
X-LIC-LOCATION:Brazil/East
BEGIN:STANDARD
DTSTART;VALUE=DATE-TIME:20190216T230000
TZNAME:BRT
TZOFFSETFROM:-0200
TZOFFSETTO:-0300
END:STANDARD
END:VTIMEZONE
END:VCALENDAR
