BEGIN:VCALENDAR
VERSION:2.0
PRODID:-//Plone.org//NONSGML plone.app.event//EN
X-WR-TIMEZONE:Brazil/East
BEGIN:VEVENT
SUMMARY:REUNIÃO DOS AGENTES DE SAÚDE.
DTSTART;TZID=Brazil/East;VALUE=DATE-TIME:20191112T140000
DTEND;TZID=Brazil/East;VALUE=DATE-TIME:20191112T180000
DTSTAMP;VALUE=DATE-TIME:20260421T180016Z
UID:aeefad62d02d47e4a960c53fb39820d0@www.goiania.go.leg.br
CONTACT:VEREADOR ZANDER
CREATED;VALUE=DATE-TIME:20191112T141936Z
LAST-MODIFIED;VALUE=DATE-TIME:20191112T141944Z
LOCATION:AUDITÓRIO JAIME CÂMARA
URL:https://www.goiania.go.leg.br/sala-de-imprensa/eventos/reuniao-dos-age
 ntes-de-saude
END:VEVENT
BEGIN:VTIMEZONE
TZID:Brazil/East
X-LIC-LOCATION:Brazil/East
BEGIN:DAYLIGHT
DTSTART;VALUE=DATE-TIME:20191020T010000
TZNAME:BRST
TZOFFSETFROM:-0300
TZOFFSETTO:-0200
END:DAYLIGHT
END:VTIMEZONE
END:VCALENDAR
