BEGIN:VCALENDAR
VERSION:2.0
PRODID:-//Plone.org//NONSGML plone.app.event//EN
X-WR-TIMEZONE:Brazil/East
BEGIN:VEVENT
SUMMARY:REUNIÃO DO VEREADOR E OS COORDENADORES DOS POLOS PARA O PROJETO P
 ASSAPORTE DA VITÓRIA.
DTSTART;TZID=Brazil/East;VALUE=DATE-TIME:20240206T130000
DTEND;TZID=Brazil/East;VALUE=DATE-TIME:20240206T150000
DTSTAMP;VALUE=DATE-TIME:20260423T055042Z
UID:8941d1afb94f4dbf8a874d17394decdd@www.goiania.go.leg.br
CONTACT:VEREADOR IGOR FRANCO
CREATED;VALUE=DATE-TIME:20240205T214310Z
LAST-MODIFIED;VALUE=DATE-TIME:20240206T132109Z
LOCATION:SALA DE REUNIÃO DAS COMISSÕES
URL:https://www.goiania.go.leg.br/sala-de-imprensa/eventos/reuniao-do-vere
 ador-e-os-coordenadores-dos-polos-para-o-projeto-passaporte-da-vitoria
END:VEVENT
BEGIN:VTIMEZONE
TZID:Brazil/East
X-LIC-LOCATION:Brazil/East
BEGIN:DAYLIGHT
DTSTART;VALUE=DATE-TIME:20231015T010000
TZNAME:BRST
TZOFFSETFROM:-0300
TZOFFSETTO:-0200
END:DAYLIGHT
END:VTIMEZONE
END:VCALENDAR
