BEGIN:VCALENDAR
VERSION:2.0
PRODID:-//Plone.org//NONSGML plone.app.event//EN
X-WR-TIMEZONE:Brazil/East
BEGIN:VEVENT
SUMMARY:REUNIÃO DO VEREADOR COM SEUS ASSESSORES.
DTSTART;TZID=Brazil/East;VALUE=DATE-TIME:20190827T140000
DTEND;TZID=Brazil/East;VALUE=DATE-TIME:20190827T180000
DTSTAMP;VALUE=DATE-TIME:20260422T050337Z
UID:7edc81a4a7be489ca03ea564c5c75ab1@www.goiania.go.leg.br
CONTACT:VEREADOR DIVINO RODRIGUES
CREATED;VALUE=DATE-TIME:20190827T150856Z
LAST-MODIFIED;VALUE=DATE-TIME:20190827T150920Z
LOCATION:SALA DE REUNIÃO DAS COMISSÕES
URL:https://www.goiania.go.leg.br/sala-de-imprensa/eventos/reuniao-do-vere
 ador-com-seus-assessores
END:VEVENT
BEGIN:VTIMEZONE
TZID:Brazil/East
X-LIC-LOCATION:Brazil/East
BEGIN:STANDARD
DTSTART;VALUE=DATE-TIME:20190216T230000
TZNAME:BRT
TZOFFSETFROM:-0200
TZOFFSETTO:-0300
END:STANDARD
END:VTIMEZONE
END:VCALENDAR
