BEGIN:VCALENDAR
VERSION:2.0
PRODID:-//Plone.org//NONSGML plone.app.event//EN
X-WR-TIMEZONE:Brazil/East
BEGIN:VEVENT
SUMMARY:REUNIÃO DO SINFISIO-GO.
DTSTART;TZID=Brazil/East;VALUE=DATE-TIME:20180628T190000
DTEND;TZID=Brazil/East;VALUE=DATE-TIME:20180628T213000
DTSTAMP;VALUE=DATE-TIME:20260425T105211Z
UID:dccb9c0379a041fc8430eefc52812ff3@www.goiania.go.leg.br
CONTACT:VEREADORA DRA. CRISTINA LOPES AFONSO
CREATED;VALUE=DATE-TIME:20180626T133329Z
LAST-MODIFIED;VALUE=DATE-TIME:20180626T133342Z
LOCATION:SALA DE REUNIÃO DAS COMISSÕES
URL:https://www.goiania.go.leg.br/sala-de-imprensa/eventos/reuniao-do-sinf
 isio-go
END:VEVENT
BEGIN:VTIMEZONE
TZID:Brazil/East
X-LIC-LOCATION:Brazil/East
BEGIN:STANDARD
DTSTART;VALUE=DATE-TIME:20180217T230000
TZNAME:BRT
TZOFFSETFROM:-0200
TZOFFSETTO:-0300
END:STANDARD
END:VTIMEZONE
END:VCALENDAR
