BEGIN:VCALENDAR
VERSION:2.0
PRODID:-//Plone.org//NONSGML plone.app.event//EN
X-WR-TIMEZONE:Brazil/East
BEGIN:VEVENT
SUMMARY:REUNIÃO DO SINDIFISIO
DTSTART;TZID=Brazil/East;VALUE=DATE-TIME:20180825T130000
DTEND;TZID=Brazil/East;VALUE=DATE-TIME:20180825T170000
DTSTAMP;VALUE=DATE-TIME:20260425T075855Z
UID:7b2a4be16b444b8897347827bcd66624@www.goiania.go.leg.br
CONTACT:VEREADORA DOUTORA CRISTINA LOPES AFONSO
CREATED;VALUE=DATE-TIME:20180823T130326Z
LAST-MODIFIED;VALUE=DATE-TIME:20180823T130330Z
LOCATION:AUDITÓRIO CARLOS EURICO
URL:https://www.goiania.go.leg.br/sala-de-imprensa/eventos/reuniao-do-sind
 ifisio
END:VEVENT
BEGIN:VTIMEZONE
TZID:Brazil/East
X-LIC-LOCATION:Brazil/East
BEGIN:STANDARD
DTSTART;VALUE=DATE-TIME:20180217T230000
TZNAME:BRT
TZOFFSETFROM:-0200
TZOFFSETTO:-0300
END:STANDARD
END:VTIMEZONE
END:VCALENDAR
