BEGIN:VCALENDAR
VERSION:2.0
PRODID:-//Plone.org//NONSGML plone.app.event//EN
X-WR-TIMEZONE:Brazil/East
BEGIN:VEVENT
SUMMARY:REUNIÃO DO SINDICATO DA FISIOTERAPIA.
DTSTART;TZID=Brazil/East;VALUE=DATE-TIME:20190413T133000
DTEND;TZID=Brazil/East;VALUE=DATE-TIME:20190413T170000
DTSTAMP;VALUE=DATE-TIME:20260424T180259Z
UID:e1f97d8927df4a92859b5a561cb1aec0@www.goiania.go.leg.br
CONTACT:VEREADORA DRA. CRISTINA LOPES AFONSO
CREATED;VALUE=DATE-TIME:20190402T124724Z
LAST-MODIFIED;VALUE=DATE-TIME:20190402T124736Z
LOCATION:SALA DE REUNIÃO DAS COMISSÕES
URL:https://www.goiania.go.leg.br/sala-de-imprensa/eventos/reuniao-do-sind
 icato-da-fisioterapia-1
END:VEVENT
BEGIN:VTIMEZONE
TZID:Brazil/East
X-LIC-LOCATION:Brazil/East
BEGIN:STANDARD
DTSTART;VALUE=DATE-TIME:20190216T230000
TZNAME:BRT
TZOFFSETFROM:-0200
TZOFFSETTO:-0300
END:STANDARD
END:VTIMEZONE
END:VCALENDAR
