BEGIN:VCALENDAR
VERSION:2.0
PRODID:-//Plone.org//NONSGML plone.app.event//EN
X-WR-TIMEZONE:Brazil/East
BEGIN:VEVENT
SUMMARY:REUNIÃO DO SINDICATO.
DTSTART;TZID=Brazil/East;VALUE=DATE-TIME:20260319T190000
DTEND;TZID=Brazil/East;VALUE=DATE-TIME:20260319T220000
DTSTAMP;VALUE=DATE-TIME:20260423T014723Z
UID:360b85cd161c4a3f8f23b940a11cca3a@www.goiania.go.leg.br
CONTACT:VEREADOR BESSA
CREATED;VALUE=DATE-TIME:20260304T105244Z
LAST-MODIFIED;VALUE=DATE-TIME:20260304T105318Z
LOCATION:AUDITÓRIO CARLOS EURICO
URL:https://www.goiania.go.leg.br/sala-de-imprensa/eventos/reuniao-do-sind
 icato-1
END:VEVENT
BEGIN:VTIMEZONE
TZID:Brazil/East
X-LIC-LOCATION:Brazil/East
BEGIN:STANDARD
DTSTART;VALUE=DATE-TIME:20260221T230000
TZNAME:BRT
TZOFFSETFROM:-0200
TZOFFSETTO:-0300
END:STANDARD
END:VTIMEZONE
END:VCALENDAR
