BEGIN:VCALENDAR
VERSION:2.0
PRODID:-//Plone.org//NONSGML plone.app.event//EN
X-WR-TIMEZONE:Brazil/East
BEGIN:VEVENT
SUMMARY:REUNIÃO DO PT ESTADUAL DE GOIÁS.
DTSTART;TZID=Brazil/East;VALUE=DATE-TIME:20230713T180000
DTEND;TZID=Brazil/East;VALUE=DATE-TIME:20230713T220000
DTSTAMP;VALUE=DATE-TIME:20260419T104631Z
UID:71b7f50dd8ff4ac4ac00c4fc6fbcc0af@www.goiania.go.leg.br
CONTACT:VEREADORA KATIA
CREATED;VALUE=DATE-TIME:20230627T134654Z
LAST-MODIFIED;VALUE=DATE-TIME:20230627T134706Z
LOCATION:AUDITÓRIO CARLOS EURICO
URL:https://www.goiania.go.leg.br/sala-de-imprensa/eventos/reuniao-do-pt-e
 stadual-de-goias-1
END:VEVENT
BEGIN:VTIMEZONE
TZID:Brazil/East
X-LIC-LOCATION:Brazil/East
BEGIN:STANDARD
DTSTART;VALUE=DATE-TIME:20230225T230000
TZNAME:BRT
TZOFFSETFROM:-0200
TZOFFSETTO:-0300
END:STANDARD
END:VTIMEZONE
END:VCALENDAR
