BEGIN:VCALENDAR
VERSION:2.0
PRODID:-//Plone.org//NONSGML plone.app.event//EN
X-WR-TIMEZONE:Brazil/East
BEGIN:VEVENT
SUMMARY:REUNIÃO DO PSL.
DTSTART;TZID=Brazil/East;VALUE=DATE-TIME:20200229T080000
DTEND;TZID=Brazil/East;VALUE=DATE-TIME:20200229T120000
DTSTAMP;VALUE=DATE-TIME:20260421T070326Z
UID:67274de9f50c46169b6558085c5fa955@www.goiania.go.leg.br
CONTACT:VEREADOR LUCAS KITÃO
CREATED;VALUE=DATE-TIME:20200228T143650Z
LAST-MODIFIED;VALUE=DATE-TIME:20200228T143716Z
LOCATION:SALA DE REUNIÃO DAS COMISSÕES
URL:https://www.goiania.go.leg.br/sala-de-imprensa/eventos/reuniao-do-psl
END:VEVENT
BEGIN:VTIMEZONE
TZID:Brazil/East
X-LIC-LOCATION:Brazil/East
BEGIN:STANDARD
DTSTART;VALUE=DATE-TIME:20200215T230000
TZNAME:BRT
TZOFFSETFROM:-0200
TZOFFSETTO:-0300
END:STANDARD
END:VTIMEZONE
END:VCALENDAR
