BEGIN:VCALENDAR
VERSION:2.0
PRODID:-//Plone.org//NONSGML plone.app.event//EN
X-WR-TIMEZONE:Brazil/East
BEGIN:VEVENT
SUMMARY:REUNIÃO DO MOVIMENTO EXTRATIVISTA.
DTSTART;TZID=Brazil/East;VALUE=DATE-TIME:20230226T080000
DTEND;TZID=Brazil/East;VALUE=DATE-TIME:20230226T120000
DTSTAMP;VALUE=DATE-TIME:20260421T072850Z
UID:417868d3c1d845e0996f5fa012b976c4@www.goiania.go.leg.br
CONTACT:VEREADOR HENRIQUE ALVES
CREATED;VALUE=DATE-TIME:20230207T134832Z
LAST-MODIFIED;VALUE=DATE-TIME:20230207T134847Z
LOCATION:AUDITÓRIO CARLOS EURICO
URL:https://www.goiania.go.leg.br/sala-de-imprensa/eventos/reuniao-do-movi
 mento-extrativista
END:VEVENT
BEGIN:VTIMEZONE
TZID:Brazil/East
X-LIC-LOCATION:Brazil/East
BEGIN:STANDARD
DTSTART;VALUE=DATE-TIME:20230225T230000
TZNAME:BRT
TZOFFSETFROM:-0200
TZOFFSETTO:-0300
END:STANDARD
END:VTIMEZONE
END:VCALENDAR
