BEGIN:VCALENDAR
VERSION:2.0
PRODID:-//Plone.org//NONSGML plone.app.event//EN
X-WR-TIMEZONE:Brazil/East
BEGIN:VEVENT
SUMMARY:REUNIÃO DO MOVIMENTO EXTRATIVISTA.
DTSTART;TZID=Brazil/East;VALUE=DATE-TIME:20230402T143000
DTEND;TZID=Brazil/East;VALUE=DATE-TIME:20230402T170000
DTSTAMP;VALUE=DATE-TIME:20260419T094043Z
UID:58951f9a6f4f4031aa085abd57bf62a9@www.goiania.go.leg.br
CONTACT:VEREADOR HENRIQUE ALVES
CREATED;VALUE=DATE-TIME:20230320T104536Z
LAST-MODIFIED;VALUE=DATE-TIME:20230320T111331Z
LOCATION:AUDITÓRIO CARLOS EURICO
URL:https://www.goiania.go.leg.br/sala-de-imprensa/eventos/reuniao-do-movi
 mento-extrativista-1
END:VEVENT
BEGIN:VTIMEZONE
TZID:Brazil/East
X-LIC-LOCATION:Brazil/East
BEGIN:STANDARD
DTSTART;VALUE=DATE-TIME:20230225T230000
TZNAME:BRT
TZOFFSETFROM:-0200
TZOFFSETTO:-0300
END:STANDARD
END:VTIMEZONE
END:VCALENDAR
