BEGIN:VCALENDAR
VERSION:2.0
PRODID:-//Plone.org//NONSGML plone.app.event//EN
X-WR-TIMEZONE:Brazil/East
BEGIN:VEVENT
SUMMARY:REUNIÃO DO MOVIMENTO COMUNITÁRIO CCAB - CONSELHO CONSULTIVO DAS 
 ASSOCIAÇÕES DE BAIRROS DE GOIÂNIA.
DTSTART;TZID=Brazil/East;VALUE=DATE-TIME:20230617T090000
DTEND;TZID=Brazil/East;VALUE=DATE-TIME:20230617T110000
DTSTAMP;VALUE=DATE-TIME:20260421T060532Z
UID:071626f4e79349e0a63ff61bf7552e69@www.goiania.go.leg.br
CONTACT:VEREADORA SABRINA GARCEZ
CREATED;VALUE=DATE-TIME:20230613T122427Z
LAST-MODIFIED;VALUE=DATE-TIME:20230613T122519Z
LOCATION:SALA DE REUNIÃO DAS COMISSÕES
URL:https://www.goiania.go.leg.br/sala-de-imprensa/eventos/reuniao-do-movi
 mento-comunitario-ccab-consselho-consultivo-das-associacoes-de-bairros-de-
 goiania
END:VEVENT
BEGIN:VTIMEZONE
TZID:Brazil/East
X-LIC-LOCATION:Brazil/East
BEGIN:STANDARD
DTSTART;VALUE=DATE-TIME:20230225T230000
TZNAME:BRT
TZOFFSETFROM:-0200
TZOFFSETTO:-0300
END:STANDARD
END:VTIMEZONE
END:VCALENDAR
