BEGIN:VCALENDAR
VERSION:2.0
PRODID:-//Plone.org//NONSGML plone.app.event//EN
X-WR-TIMEZONE:Brazil/East
BEGIN:VEVENT
SUMMARY:REUNIÃO DO INSTITUTO AURORA.
DTSTART;TZID=Brazil/East;VALUE=DATE-TIME:20240830T193000
DTEND;TZID=Brazil/East;VALUE=DATE-TIME:20240830T220000
DTSTAMP;VALUE=DATE-TIME:20260419T174040Z
UID:7daf66c1d70942d3b0a5a52e5f1c1edc@www.goiania.go.leg.br
CONTACT:VEREADOR ANSELMO PEREIRA
CREATED;VALUE=DATE-TIME:20240805T132855Z
LAST-MODIFIED;VALUE=DATE-TIME:20240805T132911Z
LOCATION:AUDITÓRIO CARLOS EURICO
URL:https://www.goiania.go.leg.br/sala-de-imprensa/eventos/reuniao-do-inst
 ituto-aurora
END:VEVENT
BEGIN:VTIMEZONE
TZID:Brazil/East
X-LIC-LOCATION:Brazil/East
BEGIN:STANDARD
DTSTART;VALUE=DATE-TIME:20240217T230000
TZNAME:BRT
TZOFFSETFROM:-0200
TZOFFSETTO:-0300
END:STANDARD
END:VTIMEZONE
END:VCALENDAR
