BEGIN:VCALENDAR
VERSION:2.0
PRODID:-//Plone.org//NONSGML plone.app.event//EN
X-WR-TIMEZONE:Brazil/East
BEGIN:VEVENT
SUMMARY:REUNIÃO DO GT DO HIP HOP.
DTSTART;TZID=Brazil/East;VALUE=DATE-TIME:20250906T140000
DTEND;TZID=Brazil/East;VALUE=DATE-TIME:20250906T170000
DTSTAMP;VALUE=DATE-TIME:20260424T070007Z
UID:364c1542088b46ceaa839eb807c288b1@www.goiania.go.leg.br
CONTACT:VEREADOR FABRÍCIO ROSA
CREATED;VALUE=DATE-TIME:20250825T213300Z
LAST-MODIFIED;VALUE=DATE-TIME:20250825T213315Z
LOCATION:SALA DE REUNIÃO DAS COMISSÕES
URL:https://www.goiania.go.leg.br/sala-de-imprensa/eventos/reuniao-do-gt-d
 o-hip-hop
END:VEVENT
BEGIN:VTIMEZONE
TZID:Brazil/East
X-LIC-LOCATION:Brazil/East
BEGIN:STANDARD
DTSTART;VALUE=DATE-TIME:20250215T230000
TZNAME:BRT
TZOFFSETFROM:-0200
TZOFFSETTO:-0300
END:STANDARD
END:VTIMEZONE
END:VCALENDAR
