BEGIN:VCALENDAR
VERSION:2.0
PRODID:-//Plone.org//NONSGML plone.app.event//EN
X-WR-TIMEZONE:Brazil/East
BEGIN:VEVENT
SUMMARY:REUNIÃO DO GRUPO TÉCNICO DE CONTABILIDADE E DO GRUPO DE CONTROLE
  INTERNO DESTE TRIBUNAL DE CONTAS DOS MUNICÍPIOS DO ESTADO DE GOIÁS.
DTSTART;TZID=Brazil/East;VALUE=DATE-TIME:20250408T080000
DTEND;TZID=Brazil/East;VALUE=DATE-TIME:20250409T180000
DTSTAMP;VALUE=DATE-TIME:20260420T225823Z
UID:85357fc59585439daa560a074c887723@www.goiania.go.leg.br
CONTACT:VEREADOR ROMÁRIO POLICARPO
CREATED;VALUE=DATE-TIME:20250319T195733Z
LAST-MODIFIED;VALUE=DATE-TIME:20250319T195807Z
LOCATION:AUDITÓRIO JAIME CÂMARA
URL:https://www.goiania.go.leg.br/sala-de-imprensa/eventos/reuniao-do-grup
 o-tecnico-de-contabilidade-e-do-grupo-de-controle-interno-deste-tribunal-d
 e-contas-dos-municipios-do-estado-de-goias
END:VEVENT
BEGIN:VTIMEZONE
TZID:Brazil/East
X-LIC-LOCATION:Brazil/East
BEGIN:STANDARD
DTSTART;VALUE=DATE-TIME:20250215T230000
TZNAME:BRT
TZOFFSETFROM:-0200
TZOFFSETTO:-0300
END:STANDARD
END:VTIMEZONE
END:VCALENDAR
