BEGIN:VCALENDAR
VERSION:2.0
PRODID:-//Plone.org//NONSGML plone.app.event//EN
X-WR-TIMEZONE:Brazil/East
BEGIN:VEVENT
SUMMARY:REUNIÃO DO GRUPO INACTION.
DTSTART;TZID=Brazil/East;VALUE=DATE-TIME:20190816T090000
DTEND;TZID=Brazil/East;VALUE=DATE-TIME:20190816T120000
DTSTAMP;VALUE=DATE-TIME:20260424T070009Z
UID:20c694e760df4edd9fcbb1558d8d01b3@www.goiania.go.leg.br
CONTACT:VEREADORA PRISCILLA TEJOTA
CREATED;VALUE=DATE-TIME:20190808T152427Z
LAST-MODIFIED;VALUE=DATE-TIME:20190808T152435Z
LOCATION:SALA DE REUNIÃO DAS COMISSÕES
URL:https://www.goiania.go.leg.br/sala-de-imprensa/eventos/reuniao-do-grup
 o-inaction
END:VEVENT
BEGIN:VTIMEZONE
TZID:Brazil/East
X-LIC-LOCATION:Brazil/East
BEGIN:STANDARD
DTSTART;VALUE=DATE-TIME:20190216T230000
TZNAME:BRT
TZOFFSETFROM:-0200
TZOFFSETTO:-0300
END:STANDARD
END:VTIMEZONE
END:VCALENDAR
