BEGIN:VCALENDAR
VERSION:2.0
PRODID:-//Plone.org//NONSGML plone.app.event//EN
X-WR-TIMEZONE:Brazil/East
BEGIN:VEVENT
SUMMARY:REUNIÃO DO GABINETE.
DTSTART;TZID=Brazil/East;VALUE=DATE-TIME:20190301T160000
DTEND;TZID=Brazil/East;VALUE=DATE-TIME:20190301T180000
DTSTAMP;VALUE=DATE-TIME:20260424T204803Z
UID:655c66b058a0445f91b99ab105dea7cb@www.goiania.go.leg.br
CONTACT:VEREADOR ÁLVARO DA UNIVERSO
CREATED;VALUE=DATE-TIME:20190301T143645Z
LAST-MODIFIED;VALUE=DATE-TIME:20190301T143658Z
LOCATION:SALA DE REUNIÃO DAS COMISSÕES
URL:https://www.goiania.go.leg.br/sala-de-imprensa/eventos/reuniao-do-gabi
 nete
END:VEVENT
BEGIN:VTIMEZONE
TZID:Brazil/East
X-LIC-LOCATION:Brazil/East
BEGIN:STANDARD
DTSTART;VALUE=DATE-TIME:20190216T230000
TZNAME:BRT
TZOFFSETFROM:-0200
TZOFFSETTO:-0300
END:STANDARD
END:VTIMEZONE
END:VCALENDAR
