BEGIN:VCALENDAR
VERSION:2.0
PRODID:-//Plone.org//NONSGML plone.app.event//EN
X-WR-TIMEZONE:Brazil/East
BEGIN:VEVENT
SUMMARY:REUNIÃO DO GABINETE DO VEREADOR.
DTSTART;TZID=Brazil/East;VALUE=DATE-TIME:20180412T163000
DTEND;TZID=Brazil/East;VALUE=DATE-TIME:20180412T190000
DTSTAMP;VALUE=DATE-TIME:20260425T175740Z
UID:45d7b3a907ad4809a5afb688011adb2d@www.goiania.go.leg.br
CONTACT:VEREADOR ANSELMO PEREIRA
CREATED;VALUE=DATE-TIME:20180411T124534Z
LAST-MODIFIED;VALUE=DATE-TIME:20180411T124545Z
LOCATION:SALA DE REUNIÃO DAS COMISSÕES
URL:https://www.goiania.go.leg.br/sala-de-imprensa/eventos/reuniao-do-gabi
 nete-do-vereador
END:VEVENT
BEGIN:VTIMEZONE
TZID:Brazil/East
X-LIC-LOCATION:Brazil/East
BEGIN:STANDARD
DTSTART;VALUE=DATE-TIME:20180217T230000
TZNAME:BRT
TZOFFSETFROM:-0200
TZOFFSETTO:-0300
END:STANDARD
END:VTIMEZONE
END:VCALENDAR
