BEGIN:VCALENDAR
VERSION:2.0
PRODID:-//Plone.org//NONSGML plone.app.event//EN
X-WR-TIMEZONE:Brazil/East
BEGIN:VEVENT
SUMMARY:REUNIÃO DO GABINETE DO VEREADOR WELTON LEMOS.
DTSTART;TZID=Brazil/East;VALUE=DATE-TIME:20240516T140000
DTEND;TZID=Brazil/East;VALUE=DATE-TIME:20240516T170000
DTSTAMP;VALUE=DATE-TIME:20260422T021710Z
UID:1a4902b1a8cf47c3ac505ec4d1b8d41d@www.goiania.go.leg.br
CONTACT:VEREADOR WELTON LEMOS
CREATED;VALUE=DATE-TIME:20240514T124758Z
LAST-MODIFIED;VALUE=DATE-TIME:20240514T124828Z
LOCATION:SALA DE REUNIÃO DAS COMISSÕES
URL:https://www.goiania.go.leg.br/sala-de-imprensa/eventos/reuniao-do-gabi
 nete-do-vereador-welton-lemos
END:VEVENT
BEGIN:VTIMEZONE
TZID:Brazil/East
X-LIC-LOCATION:Brazil/East
BEGIN:STANDARD
DTSTART;VALUE=DATE-TIME:20240217T230000
TZNAME:BRT
TZOFFSETFROM:-0200
TZOFFSETTO:-0300
END:STANDARD
END:VTIMEZONE
END:VCALENDAR
