BEGIN:VCALENDAR
VERSION:2.0
PRODID:-//Plone.org//NONSGML plone.app.event//EN
X-WR-TIMEZONE:Brazil/East
BEGIN:VEVENT
SUMMARY:REUNIÃO DO GABINETE DO VEREADOR MAURO RUBEM
DTSTART;TZID=Brazil/East;VALUE=DATE-TIME:20210209T140000
DTEND;TZID=Brazil/East;VALUE=DATE-TIME:20210209T170000
DTSTAMP;VALUE=DATE-TIME:20260420T214014Z
UID:975dbe73f54a498a8b91f9e9fc8c947f@www.goiania.go.leg.br
CONTACT:VEREADOR MAURO RUBEM
CREATED;VALUE=DATE-TIME:20210203T131644Z
LAST-MODIFIED;VALUE=DATE-TIME:20210203T131654Z
LOCATION:SALA DE REUNIÃO DAS COMISSÕES
URL:https://www.goiania.go.leg.br/sala-de-imprensa/eventos/reuniao-do-gabi
 nete-do-vereador-mauro-rubem
END:VEVENT
BEGIN:VTIMEZONE
TZID:Brazil/East
X-LIC-LOCATION:Brazil/East
BEGIN:DAYLIGHT
DTSTART;VALUE=DATE-TIME:20201018T010000
TZNAME:BRST
TZOFFSETFROM:-0300
TZOFFSETTO:-0200
END:DAYLIGHT
END:VTIMEZONE
END:VCALENDAR
