BEGIN:VCALENDAR
VERSION:2.0
PRODID:-//Plone.org//NONSGML plone.app.event//EN
X-WR-TIMEZONE:Brazil/East
BEGIN:VEVENT
SUMMARY:REUNIÃO DO GABINETE DO VEREADOR ANDREY AZEREDO.
DTSTART;TZID=Brazil/East;VALUE=DATE-TIME:20191216T080000
DTEND;TZID=Brazil/East;VALUE=DATE-TIME:20191216T130000
DTSTAMP;VALUE=DATE-TIME:20260421T141232Z
UID:cfecfcf4c2e6431186272b525afc9f9a@www.goiania.go.leg.br
CONTACT:VEREADOR ANDREY AZEREDO
CREATED;VALUE=DATE-TIME:20191213T122812Z
LAST-MODIFIED;VALUE=DATE-TIME:20191213T122829Z
LOCATION:SALA DE REUNIÃO DAS COMISSÕES
URL:https://www.goiania.go.leg.br/sala-de-imprensa/eventos/reuniao-do-gabi
 nete-do-vereador-andrey-azeredo-3
END:VEVENT
BEGIN:VTIMEZONE
TZID:Brazil/East
X-LIC-LOCATION:Brazil/East
BEGIN:DAYLIGHT
DTSTART;VALUE=DATE-TIME:20191020T010000
TZNAME:BRST
TZOFFSETFROM:-0300
TZOFFSETTO:-0200
END:DAYLIGHT
END:VTIMEZONE
END:VCALENDAR
