BEGIN:VCALENDAR
VERSION:2.0
PRODID:-//Plone.org//NONSGML plone.app.event//EN
X-WR-TIMEZONE:Brazil/East
BEGIN:VEVENT
SUMMARY:REUNIÃO DO GABINETE.
DTSTART;TZID=Brazil/East;VALUE=DATE-TIME:20240620T140000
DTEND;TZID=Brazil/East;VALUE=DATE-TIME:20240620T180000
DTSTAMP;VALUE=DATE-TIME:20260420T185431Z
UID:0d28fba90266408fb498ed2a56abb308@www.goiania.go.leg.br
CONTACT:VEREADOR FABRÍCIO BONFIM
CREATED;VALUE=DATE-TIME:20240619T113420Z
LAST-MODIFIED;VALUE=DATE-TIME:20240619T113437Z
LOCATION:AUDITÓRIO CARLOS EURICO
URL:https://www.goiania.go.leg.br/sala-de-imprensa/eventos/reuniao-do-gabi
 nete-99
END:VEVENT
BEGIN:VTIMEZONE
TZID:Brazil/East
X-LIC-LOCATION:Brazil/East
BEGIN:STANDARD
DTSTART;VALUE=DATE-TIME:20240217T230000
TZNAME:BRT
TZOFFSETFROM:-0200
TZOFFSETTO:-0300
END:STANDARD
END:VTIMEZONE
END:VCALENDAR
