BEGIN:VCALENDAR
VERSION:2.0
PRODID:-//Plone.org//NONSGML plone.app.event//EN
X-WR-TIMEZONE:Brazil/East
BEGIN:VEVENT
SUMMARY:REUNIÃO DO GABINETE.
DTSTART;TZID=Brazil/East;VALUE=DATE-TIME:20240603T140000
DTEND;TZID=Brazil/East;VALUE=DATE-TIME:20240603T170000
DTSTAMP;VALUE=DATE-TIME:20260423T001714Z
UID:e9782619038540afafdb1075281dbfca@www.goiania.go.leg.br
CONTACT:VEREADOR WELTON LEMOS
CREATED;VALUE=DATE-TIME:20240522T202304Z
LAST-MODIFIED;VALUE=DATE-TIME:20240522T202315Z
LOCATION:SALA DE REUNIÃO DAS COMISSÕES
URL:https://www.goiania.go.leg.br/sala-de-imprensa/eventos/reuniao-do-gabi
 nete-88
END:VEVENT
BEGIN:VTIMEZONE
TZID:Brazil/East
X-LIC-LOCATION:Brazil/East
BEGIN:STANDARD
DTSTART;VALUE=DATE-TIME:20240217T230000
TZNAME:BRT
TZOFFSETFROM:-0200
TZOFFSETTO:-0300
END:STANDARD
END:VTIMEZONE
END:VCALENDAR
