BEGIN:VCALENDAR
VERSION:2.0
PRODID:-//Plone.org//NONSGML plone.app.event//EN
X-WR-TIMEZONE:Brazil/East
BEGIN:VEVENT
SUMMARY:REUNIÃO DO GABINETE.
DTSTART;TZID=Brazil/East;VALUE=DATE-TIME:20230523T150000
DTEND;TZID=Brazil/East;VALUE=DATE-TIME:20230523T180000
DTSTAMP;VALUE=DATE-TIME:20260419T104553Z
UID:01b44327a61746818821bf68fe483739@www.goiania.go.leg.br
CONTACT:VEREADOR WELTON LEMOS
CREATED;VALUE=DATE-TIME:20230523T104111Z
LAST-MODIFIED;VALUE=DATE-TIME:20230523T104119Z
LOCATION:SALA DE REUNIÃO DA PRESIDÊNCIA
URL:https://www.goiania.go.leg.br/sala-de-imprensa/eventos/reuniao-do-gabi
 nete-59
END:VEVENT
BEGIN:VTIMEZONE
TZID:Brazil/East
X-LIC-LOCATION:Brazil/East
BEGIN:STANDARD
DTSTART;VALUE=DATE-TIME:20230225T230000
TZNAME:BRT
TZOFFSETFROM:-0200
TZOFFSETTO:-0300
END:STANDARD
END:VTIMEZONE
END:VCALENDAR
