BEGIN:VCALENDAR
VERSION:2.0
PRODID:-//Plone.org//NONSGML plone.app.event//EN
X-WR-TIMEZONE:Brazil/East
BEGIN:VEVENT
SUMMARY:REUNIÃO DO GABINETE.
DTSTART;TZID=Brazil/East;VALUE=DATE-TIME:20230329T100000
DTEND;TZID=Brazil/East;VALUE=DATE-TIME:20230329T120000
DTSTAMP;VALUE=DATE-TIME:20260423T072957Z
UID:5a5c69ef733a4ddb85dff61079585755@www.goiania.go.leg.br
CONTACT:VEREADOR ANSELMO PEREIRA
CREATED;VALUE=DATE-TIME:20230322T200404Z
LAST-MODIFIED;VALUE=DATE-TIME:20230322T200415Z
LOCATION:SALA DE REUNIÃO DA PRESIDÊNCIA
URL:https://www.goiania.go.leg.br/sala-de-imprensa/eventos/reuniao-do-gabi
 nete-54
END:VEVENT
BEGIN:VTIMEZONE
TZID:Brazil/East
X-LIC-LOCATION:Brazil/East
BEGIN:STANDARD
DTSTART;VALUE=DATE-TIME:20230225T230000
TZNAME:BRT
TZOFFSETFROM:-0200
TZOFFSETTO:-0300
END:STANDARD
END:VTIMEZONE
END:VCALENDAR
