BEGIN:VCALENDAR
VERSION:2.0
PRODID:-//Plone.org//NONSGML plone.app.event//EN
X-WR-TIMEZONE:Brazil/East
BEGIN:VEVENT
SUMMARY:REUNIÃO DO GABINETE.
DTSTART;TZID=Brazil/East;VALUE=DATE-TIME:20220530T090000
DTEND;TZID=Brazil/East;VALUE=DATE-TIME:20220530T110000
DTSTAMP;VALUE=DATE-TIME:20260420T131542Z
UID:44a3563328cc450b9391638d6622f2b5@www.goiania.go.leg.br
CONTACT:VEREADOR RAPHAEL DA SAÚDE
CREATED;VALUE=DATE-TIME:20220525T130936Z
LAST-MODIFIED;VALUE=DATE-TIME:20220525T130944Z
LOCATION:SALA DE REUNIÃO DA PRESIDÊNCIA
URL:https://www.goiania.go.leg.br/sala-de-imprensa/eventos/reuniao-do-gabi
 nete-32
END:VEVENT
BEGIN:VTIMEZONE
TZID:Brazil/East
X-LIC-LOCATION:Brazil/East
BEGIN:STANDARD
DTSTART;VALUE=DATE-TIME:20220219T230000
TZNAME:BRT
TZOFFSETFROM:-0200
TZOFFSETTO:-0300
END:STANDARD
END:VTIMEZONE
END:VCALENDAR
