BEGIN:VCALENDAR
VERSION:2.0
PRODID:-//Plone.org//NONSGML plone.app.event//EN
X-WR-TIMEZONE:Brazil/East
BEGIN:VEVENT
SUMMARY:REUNIÃO DO GABINETE.
DTSTART;TZID=Brazil/East;VALUE=DATE-TIME:20220329T140000
DTEND;TZID=Brazil/East;VALUE=DATE-TIME:20220329T180000
DTSTAMP;VALUE=DATE-TIME:20260421T001049Z
UID:d4ab437948c84f0a83df18fed2382fb9@www.goiania.go.leg.br
CONTACT:VEREADOR KLEYBE
CREATED;VALUE=DATE-TIME:20220329T150057Z
LAST-MODIFIED;VALUE=DATE-TIME:20220329T150104Z
LOCATION:SALA DE REUNIÃO DAS COMISSÕES
URL:https://www.goiania.go.leg.br/sala-de-imprensa/eventos/reuniao-do-gabi
 nete-25
END:VEVENT
BEGIN:VTIMEZONE
TZID:Brazil/East
X-LIC-LOCATION:Brazil/East
BEGIN:STANDARD
DTSTART;VALUE=DATE-TIME:20220219T230000
TZNAME:BRT
TZOFFSETFROM:-0200
TZOFFSETTO:-0300
END:STANDARD
END:VTIMEZONE
END:VCALENDAR
