BEGIN:VCALENDAR
VERSION:2.0
PRODID:-//Plone.org//NONSGML plone.app.event//EN
X-WR-TIMEZONE:Brazil/East
BEGIN:VEVENT
SUMMARY:REUNIÃO DO GABINETE 11.
DTSTART;TZID=Brazil/East;VALUE=DATE-TIME:20260224T143000
DTEND;TZID=Brazil/East;VALUE=DATE-TIME:20260224T180000
DTSTAMP;VALUE=DATE-TIME:20260423T142906Z
UID:9ffeec0cdf82410d97913b0e718e4126@www.goiania.go.leg.br
CONTACT:VEREADOR BESSA
CREATED;VALUE=DATE-TIME:20260223T131832Z
LAST-MODIFIED;VALUE=DATE-TIME:20260223T131847Z
LOCATION:SALA DE REUNIÕES DO VEREADOR CARLOS SOARES
URL:https://www.goiania.go.leg.br/sala-de-imprensa/eventos/reuniao-do-gabi
 nete-11-5
END:VEVENT
BEGIN:VTIMEZONE
TZID:Brazil/East
X-LIC-LOCATION:Brazil/East
BEGIN:STANDARD
DTSTART;VALUE=DATE-TIME:20260221T230000
TZNAME:BRT
TZOFFSETFROM:-0200
TZOFFSETTO:-0300
END:STANDARD
END:VTIMEZONE
END:VCALENDAR
