BEGIN:VCALENDAR
VERSION:2.0
PRODID:-//Plone.org//NONSGML plone.app.event//EN
X-WR-TIMEZONE:Brazil/East
BEGIN:VEVENT
SUMMARY:REUNIÃO DO GABINETE 11.
DTSTART;TZID=Brazil/East;VALUE=DATE-TIME:20221007T150000
DTEND;TZID=Brazil/East;VALUE=DATE-TIME:20221007T180000
DTSTAMP;VALUE=DATE-TIME:20260421T013003Z
UID:1e61a8eb268d4bf7a6570a557155ffe0@www.goiania.go.leg.br
CONTACT:VEREADOR RAPAHEL DA SAÚDE
CREATED;VALUE=DATE-TIME:20221006T214209Z
LAST-MODIFIED;VALUE=DATE-TIME:20221006T214305Z
LOCATION:SALA DE REUNIÃO DAS COMISSÕES
URL:https://www.goiania.go.leg.br/sala-de-imprensa/eventos/reuniao-do-gabi
 nete-11-1
END:VEVENT
BEGIN:VTIMEZONE
TZID:Brazil/East
X-LIC-LOCATION:Brazil/East
BEGIN:STANDARD
DTSTART;VALUE=DATE-TIME:20220219T230000
TZNAME:BRT
TZOFFSETFROM:-0200
TZOFFSETTO:-0300
END:STANDARD
END:VTIMEZONE
END:VCALENDAR
