BEGIN:VCALENDAR
VERSION:2.0
PRODID:-//Plone.org//NONSGML plone.app.event//EN
X-WR-TIMEZONE:Brazil/East
BEGIN:VEVENT
SUMMARY:REUNIÃO DO GABIENTE DO VEREADOR DR. GIAN.
DTSTART;TZID=Brazil/East;VALUE=DATE-TIME:20240528T133000
DTEND;TZID=Brazil/East;VALUE=DATE-TIME:20240528T180000
DTSTAMP;VALUE=DATE-TIME:20260421T045500Z
UID:53cd64d5fb1c473cbaa6247087c0e493@www.goiania.go.leg.br
CONTACT:VEREADOR DR. GIAN
CREATED;VALUE=DATE-TIME:20240527T134837Z
LAST-MODIFIED;VALUE=DATE-TIME:20240527T134931Z
LOCATION:SALA DE REUBNIÃO DAS COMISSÕES
URL:https://www.goiania.go.leg.br/sala-de-imprensa/eventos/reuniao-do-gabi
 ente-do-vereador-dr-gian
END:VEVENT
BEGIN:VTIMEZONE
TZID:Brazil/East
X-LIC-LOCATION:Brazil/East
BEGIN:STANDARD
DTSTART;VALUE=DATE-TIME:20240217T230000
TZNAME:BRT
TZOFFSETFROM:-0200
TZOFFSETTO:-0300
END:STANDARD
END:VTIMEZONE
END:VCALENDAR
