BEGIN:VCALENDAR
VERSION:2.0
PRODID:-//Plone.org//NONSGML plone.app.event//EN
X-WR-TIMEZONE:Brazil/East
BEGIN:VEVENT
SUMMARY:REUNIÃO DO CONSELHO MUNICIPAL DOS DIREITOS DA PESSOA COM DEFICIÊ
 NCIA.
DTSTART;TZID=Brazil/East;VALUE=DATE-TIME:20220304T080000
DTEND;TZID=Brazil/East;VALUE=DATE-TIME:20220304T120000
DTSTAMP;VALUE=DATE-TIME:20260420T082225Z
UID:e1e5a4e4613b43e199826dfa749f2245@www.goiania.go.leg.br
CONTACT:VEREADOR WILLIAN VELOSO
CREATED;VALUE=DATE-TIME:20220216T103406Z
LAST-MODIFIED;VALUE=DATE-TIME:20220216T103412Z
LOCATION:SALA DE REUNIÃO DA PRESIDÊNCIA
URL:https://www.goiania.go.leg.br/sala-de-imprensa/eventos/reuniao-do-cons
 elho-municipal-dos-direitos-da-pessoa-com-deficiencia
END:VEVENT
BEGIN:VTIMEZONE
TZID:Brazil/East
X-LIC-LOCATION:Brazil/East
BEGIN:STANDARD
DTSTART;VALUE=DATE-TIME:20220219T230000
TZNAME:BRT
TZOFFSETFROM:-0200
TZOFFSETTO:-0300
END:STANDARD
END:VTIMEZONE
END:VCALENDAR
