BEGIN:VCALENDAR
VERSION:2.0
PRODID:-//Plone.org//NONSGML plone.app.event//EN
X-WR-TIMEZONE:Brazil/East
BEGIN:VEVENT
SUMMARY:REUNIÃO DO COLEGIADO DOS CONSELHOS TUTELARES DE GOIÂNIA.
DTSTART;TZID=Brazil/East;VALUE=DATE-TIME:20190211T193000
DTEND;TZID=Brazil/East;VALUE=DATE-TIME:20190211T220000
DTSTAMP;VALUE=DATE-TIME:20260425T010240Z
UID:51283a6d923c4f149f6dd008bee342ee@www.goiania.go.leg.br
CONTACT:VEREADOR GCM ROMÁRIO POLICARPO
CREATED;VALUE=DATE-TIME:20190207T135805Z
LAST-MODIFIED;VALUE=DATE-TIME:20190211T092822Z
LOCATION:SALA DE REUNIÃO DAS COMISSÕES
URL:https://www.goiania.go.leg.br/sala-de-imprensa/eventos/reuniao-do-cole
 giado-dos-conselhos-tutelares-de-goiania
END:VEVENT
BEGIN:VTIMEZONE
TZID:Brazil/East
X-LIC-LOCATION:Brazil/East
BEGIN:DAYLIGHT
DTSTART;VALUE=DATE-TIME:20181021T010000
TZNAME:BRST
TZOFFSETFROM:-0300
TZOFFSETTO:-0200
END:DAYLIGHT
END:VTIMEZONE
END:VCALENDAR
