BEGIN:VCALENDAR
VERSION:2.0
PRODID:-//Plone.org//NONSGML plone.app.event//EN
X-WR-TIMEZONE:Brazil/East
BEGIN:VEVENT
SUMMARY:REUNIÃO DESTE GABINETE.
DTSTART;TZID=Brazil/East;VALUE=DATE-TIME:20190919T120000
DTEND;TZID=Brazil/East;VALUE=DATE-TIME:20190919T180000
DTSTAMP;VALUE=DATE-TIME:20260422T015658Z
UID:04e4c202ff78443a8b70db084a030370@www.goiania.go.leg.br
CONTACT:VEREADOR ANDREY AZEREDO
CREATED;VALUE=DATE-TIME:20190913T221343Z
LAST-MODIFIED;VALUE=DATE-TIME:20190913T221349Z
LOCATION:SALA DE REUNIÃO DA PRESIDÊNCIA
URL:https://www.goiania.go.leg.br/sala-de-imprensa/eventos/reuniao-deste-g
 abinete
END:VEVENT
BEGIN:VTIMEZONE
TZID:Brazil/East
X-LIC-LOCATION:Brazil/East
BEGIN:STANDARD
DTSTART;VALUE=DATE-TIME:20190216T230000
TZNAME:BRT
TZOFFSETFROM:-0200
TZOFFSETTO:-0300
END:STANDARD
END:VTIMEZONE
END:VCALENDAR
