BEGIN:VCALENDAR
VERSION:2.0
PRODID:-//Plone.org//NONSGML plone.app.event//EN
X-WR-TIMEZONE:Brazil/East
BEGIN:VEVENT
SUMMARY:REUNIÃO DE TREINAMENTO E CAPACITAÇÃO COM OS AGENTES DE COMBATE 
 ÀS ENDEMIAS.
DTSTART;TZID=Brazil/East;VALUE=DATE-TIME:20250515T080000
DTEND;TZID=Brazil/East;VALUE=DATE-TIME:20250515T160000
DTSTAMP;VALUE=DATE-TIME:20260419T120620Z
UID:51cadd140d354a3789b6aef775d6c341@www.goiania.go.leg.br
CONTACT:VEREADOR PEDRO AZULÃO JR.
CREATED;VALUE=DATE-TIME:20250415T134850Z
LAST-MODIFIED;VALUE=DATE-TIME:20250415T135142Z
LOCATION:AUDITÓRIO JAIME CÂMARA
URL:https://www.goiania.go.leg.br/sala-de-imprensa/eventos/reuniao-de-trei
 namento-e-capacitacao-com-os-agentes-de-combate-as-endemias
END:VEVENT
BEGIN:VTIMEZONE
TZID:Brazil/East
X-LIC-LOCATION:Brazil/East
BEGIN:STANDARD
DTSTART;VALUE=DATE-TIME:20250215T230000
TZNAME:BRT
TZOFFSETFROM:-0200
TZOFFSETTO:-0300
END:STANDARD
END:VTIMEZONE
END:VCALENDAR
