BEGIN:VCALENDAR
VERSION:2.0
PRODID:-//Plone.org//NONSGML plone.app.event//EN
X-WR-TIMEZONE:Brazil/East
BEGIN:VEVENT
SUMMARY:REUNIÃO DE TRABALHO.
DTSTART;TZID=Brazil/East;VALUE=DATE-TIME:20190301T130000
DTEND;TZID=Brazil/East;VALUE=DATE-TIME:20190301T150000
DTSTAMP;VALUE=DATE-TIME:20260424T204702Z
UID:44f600f24dcf4e81920eccb929726498@www.goiania.go.leg.br
CONTACT:VEREADOR JAIR DIAMANTINO
CREATED;VALUE=DATE-TIME:20190227T133237Z
LAST-MODIFIED;VALUE=DATE-TIME:20190227T133256Z
LOCATION:SALA DE REUNIÃO DA PRESIDÊNCIA
URL:https://www.goiania.go.leg.br/sala-de-imprensa/eventos/reuniao-de-trab
 alho
END:VEVENT
BEGIN:VTIMEZONE
TZID:Brazil/East
X-LIC-LOCATION:Brazil/East
BEGIN:STANDARD
DTSTART;VALUE=DATE-TIME:20190216T230000
TZNAME:BRT
TZOFFSETFROM:-0200
TZOFFSETTO:-0300
END:STANDARD
END:VTIMEZONE
END:VCALENDAR
